BEGIN:VCALENDAR
VERSION:2.0
PRODID:-//ACA - ECPv6.15.20//NONSGML v1.0//EN
CALSCALE:GREGORIAN
METHOD:PUBLISH
X-WR-CALNAME:ACA
X-ORIGINAL-URL:https://canyoneering.net
X-WR-CALDESC:Events for ACA
REFRESH-INTERVAL;VALUE=DURATION:PT1H
X-Robots-Tag:noindex
X-PUBLISHED-TTL:PT1H
BEGIN:VTIMEZONE
TZID:America/Phoenix
BEGIN:STANDARD
TZOFFSETFROM:-0700
TZOFFSETTO:-0700
TZNAME:MST
DTSTART:20180101T000000
END:STANDARD
END:VTIMEZONE
BEGIN:VEVENT
DTSTART;TZID=America/Phoenix:20190802T160000
DTEND;TZID=America/Phoenix:20190804T180000
DTSTAMP:20260425T202827
CREATED:20190801T021810Z
LAST-MODIFIED:20190804T185138Z
UID:74302-1564761600-1564941600@canyoneering.net
SUMMARY:ACA Canyon Leader 2 Assessment - Escalante\, UT
DESCRIPTION:To become a Canyon Leader 2 in the ACA you must pass the Canyon Leader 2 assessment. Your skills\, training\, etc can be from any place or any classes you have taken. Bottom line is you need to pass the ACA assessment. It is a comprehensive assessment of the ACA skills checklists 1-4 (Core\, Aspirant\, CL1\, CL2) and in canyon assessement.TAKE NOTE! – the skill checklists have been updated so make sure you have the current one which is located here: ACA Checklists (https://canyoneering.net/resources/) \nThere will be a written exam in addition to assessing your skills.THIS IS NOT A WORKSHOP\, meaning you should have a good understanding and know how to apply your skills already. You have some time to prepare and if you have questions or need clarification\, please contact the assessment host. \nThere is no cost for the CL2 assessment. \n• By signing up for and/or attending this Meetup event\, you acknowledge\, understand\, accept\, and agree that: Canyoneering and other outdoor activities can be dangerous and can cause serious bodily injury and possibly death; The organizers of this meetup and current and former members cannot be held responsible or liable in any way for the actions of any participant – including you – at any event; You release and forever discharge the organizers jointly and severally from any actions\, causes of actions\, claims\, damage\, loss including death or injury which may be sustained from participating in this Meetup event. \n• All attendees are participating at this event at their own risk and are solely responsible for any damage to their property\, and/or any injury or loss in whatever form to themselves or their guests. \n• By signing up for and/or attending this Meetup event\, you affirm that you understand this disclaimer and release\, and that you knowingly and voluntarily agree not to bring any type of claim including a lawsuit or other action arising out of or related to this Meetup event against the organizers of this Meetup group.
URL:https://canyoneering.net/event/aca-canyon-leader-2-assessment-escalante-ut/
LOCATION:Excursions of Escalante\, 125 E Main St\, Escalante\, UT\, 84726\, US
ATTACH;FMTTYPE=image/jpeg:https://canyoneering.net/wp-content/uploads/2019/07/74175_image_highres_482212827.jpeg
END:VEVENT
END:VCALENDAR